BEGIN:VCALENDAR
VERSION:2.0
PRODID:-//N.P.T.S.A. - ECPv6.15.20//NONSGML v1.0//EN
CALSCALE:GREGORIAN
METHOD:PUBLISH
X-WR-CALNAME:N.P.T.S.A.
X-ORIGINAL-URL:https://nptsa.co.uk
X-WR-CALDESC:Events for N.P.T.S.A.
REFRESH-INTERVAL;VALUE=DURATION:PT1H
X-Robots-Tag:noindex
X-PUBLISHED-TTL:PT1H
BEGIN:VTIMEZONE
TZID:UTC
BEGIN:STANDARD
TZOFFSETFROM:+0000
TZOFFSETTO:+0000
TZNAME:UTC
DTSTART:20210101T000000
END:STANDARD
END:VTIMEZONE
BEGIN:VEVENT
DTSTART;VALUE=DATE:20220614
DTEND;VALUE=DATE:20220615
DTSTAMP:20260422T124423
CREATED:20220303T160800Z
LAST-MODIFIED:20220303T160800Z
UID:2636-1655164800-1655251199@nptsa.co.uk
SUMMARY:Angling (Individual)
DESCRIPTION:
URL:https://nptsa.co.uk/event/angling-individual/
LOCATION:Lindholme Lakes\, Country Park\, Doncaster\, DN4 1LF
CATEGORIES:Angling
END:VEVENT
END:VCALENDAR