BEGIN:VCALENDAR
VERSION:2.0
PRODID:-//N.P.T.S.A. - ECPv6.15.20//NONSGML v1.0//EN
CALSCALE:GREGORIAN
METHOD:PUBLISH
X-WR-CALNAME:N.P.T.S.A.
X-ORIGINAL-URL:https://nptsa.co.uk
X-WR-CALDESC:Events for N.P.T.S.A.
REFRESH-INTERVAL;VALUE=DURATION:PT1H
X-Robots-Tag:noindex
X-PUBLISHED-TTL:PT1H
BEGIN:VTIMEZONE
TZID:UTC
BEGIN:STANDARD
TZOFFSETFROM:+0000
TZOFFSETTO:+0000
TZNAME:UTC
DTSTART:20220101T000000
END:STANDARD
END:VTIMEZONE
BEGIN:VEVENT
DTSTART;VALUE=DATE:20230613
DTEND;VALUE=DATE:20230614
DTSTAMP:20260421T194924
CREATED:20230124T115504Z
LAST-MODIFIED:20230124T120843Z
UID:3676-1686614400-1686700799@nptsa.co.uk
SUMMARY:Individual Angling - Aston Park Fishery
DESCRIPTION:
URL:https://nptsa.co.uk/event/individual-angling-aston-park-fishery/
CATEGORIES:Angling
ATTACH;FMTTYPE=image/jpeg:https://nptsa.co.uk/wp-content/uploads/2023/01/Angling-Header.jpg
ORGANIZER;CN="Alan Hughes":MAILTO:angling@nptsa.co.uk
END:VEVENT
END:VCALENDAR