BEGIN:VCALENDAR
VERSION:2.0
PRODID:-//N.P.T.S.A. - ECPv6.15.20//NONSGML v1.0//EN
CALSCALE:GREGORIAN
METHOD:PUBLISH
X-ORIGINAL-URL:https://nptsa.co.uk
X-WR-CALDESC:Events for N.P.T.S.A.
REFRESH-INTERVAL;VALUE=DURATION:PT1H
X-Robots-Tag:noindex
X-PUBLISHED-TTL:PT1H
BEGIN:VTIMEZONE
TZID:UTC
BEGIN:STANDARD
TZOFFSETFROM:+0000
TZOFFSETTO:+0000
TZNAME:UTC
DTSTART:20210101T000000
END:STANDARD
END:VTIMEZONE
BEGIN:VEVENT
DTSTART;VALUE=DATE:20250921
DTEND;VALUE=DATE:20250922
DTSTAMP:20260424T162443
CREATED:20250317T172617Z
LAST-MODIFIED:20250317T172617Z
UID:5956-1758412800-1758499199@nptsa.co.uk
SUMMARY:Crown Green Bowls - Team Event & Finals Day\, Date TBC\, Kings Heath\, The Stadium
DESCRIPTION:
URL:https://nptsa.co.uk/event/crown-green-bowls-team-event-finals-day-date-tbc-kings-heath-the-stadium/
CATEGORIES:Bowls (Crown Green)
END:VEVENT
BEGIN:VEVENT
DTSTART;VALUE=DATE:20250907
DTEND;VALUE=DATE:20250908
DTSTAMP:20260424T162443
CREATED:20250317T172510Z
LAST-MODIFIED:20250317T172510Z
UID:5954-1757203200-1757289599@nptsa.co.uk
SUMMARY:Crown Green Bowls - Veterans & Rafferty Cup\, Date TBC\, Kings Heath\, The Stadium
DESCRIPTION:
URL:https://nptsa.co.uk/event/crown-green-bowls-veterans-rafferty-cup-date-tbc-kings-heath-the-stadium/
CATEGORIES:Bowls (Crown Green)
END:VEVENT
BEGIN:VEVENT
DTSTART;VALUE=DATE:20250803
DTEND;VALUE=DATE:20250804
DTSTAMP:20260424T162443
CREATED:20250317T172139Z
LAST-MODIFIED:20250317T172139Z
UID:5952-1754179200-1754265599@nptsa.co.uk
SUMMARY:Crown Green Bowls - Triples\, Erdington Conservative Club
DESCRIPTION:
URL:https://nptsa.co.uk/event/crown-green-bowls-triples-erdington-conservative-club/
CATEGORIES:Bowls (Crown Green)
END:VEVENT
BEGIN:VEVENT
DTSTART;VALUE=DATE:20250720
DTEND;VALUE=DATE:20250721
DTSTAMP:20260424T162443
CREATED:20250317T172047Z
LAST-MODIFIED:20250317T172047Z
UID:5950-1752969600-1753055999@nptsa.co.uk
SUMMARY:Crown Green Bowls\, Pairs (Location TBC)
DESCRIPTION:
URL:https://nptsa.co.uk/event/crown-green-bowls-pairs-location-tbc/
CATEGORIES:Bowls (Crown Green)
END:VEVENT
BEGIN:VEVENT
DTSTART;VALUE=DATE:20240818
DTEND;VALUE=DATE:20240819
DTSTAMP:20260424T162443
CREATED:20240704T152906Z
LAST-MODIFIED:20240704T152906Z
UID:5434-1723939200-1724025599@nptsa.co.uk
SUMMARY:Crown Green Bowls – Pairs Competition – Erdington Conservative Club\, Birmingham
DESCRIPTION:
URL:https://nptsa.co.uk/event/crown-green-bowls-pairs-competition-erdington-conservative-club-birmingham/
CATEGORIES:Bowls (Crown Green)
END:VEVENT
BEGIN:VEVENT
DTSTART;VALUE=DATE:20240721
DTEND;VALUE=DATE:20240722
DTSTAMP:20260424T162443
CREATED:20240330T151119Z
LAST-MODIFIED:20240330T151119Z
UID:5264-1721520000-1721606399@nptsa.co.uk
SUMMARY:Crown Green Bowls - Triples Competition - Hall Green\, Birmingham
DESCRIPTION:
URL:https://nptsa.co.uk/event/crown-green-bowls-triples-competition-hall-green-birmingham/
LOCATION:Hall Green
CATEGORIES:Bowls (Crown Green)
ATTACH;FMTTYPE=image/jpeg:https://nptsa.co.uk/wp-content/uploads/2023/04/istockphoto-105672286-612x612-1.jpg
ORGANIZER;CN="Stuart Wilkinson":MAILTO:admin@nptsa.co.uk
END:VEVENT
BEGIN:VEVENT
DTSTART;VALUE=DATE:20240630
DTEND;VALUE=DATE:20240701
DTSTAMP:20260424T162443
CREATED:20240330T150858Z
LAST-MODIFIED:20240507T101828Z
UID:5261-1719705600-1719791999@nptsa.co.uk
SUMMARY:Crown Green Bowls - Individuals - Erdington\, Birmingham
DESCRIPTION:This game has been rescheduled\, was previously scheduled for Sunday 26th May
URL:https://nptsa.co.uk/event/crown-green-bowls-individuals-erdington-birmingham/
LOCATION:Erdington
CATEGORIES:Bowls (Crown Green)
ATTACH;FMTTYPE=image/jpeg:https://nptsa.co.uk/wp-content/uploads/2023/04/istockphoto-105672286-612x612-1.jpg
ORGANIZER;CN="Stuart Wilkinson":MAILTO:admin@nptsa.co.uk
END:VEVENT
BEGIN:VEVENT
DTSTART;TZID=UTC:20220626T080000
DTEND;TZID=UTC:20220626T170000
DTSTAMP:20260424T162443
CREATED:20220405T130651Z
LAST-MODIFIED:20220405T130651Z
UID:2906-1656230400-1656262800@nptsa.co.uk
SUMMARY:Crown Green Bowls
DESCRIPTION:Singles                    West End Bowling Club Sowerby Bridge Halifax
URL:https://nptsa.co.uk/event/crown-green-bowls-3/
CATEGORIES:Bowls (Crown Green)
END:VEVENT
BEGIN:VEVENT
DTSTART;TZID=UTC:20220522T080000
DTEND;TZID=UTC:20220522T170000
DTSTAMP:20260424T162443
CREATED:20220405T130241Z
LAST-MODIFIED:20220405T130241Z
UID:2902-1653206400-1653238800@nptsa.co.uk
SUMMARY:Crown Green Bowls
DESCRIPTION:Pairs                         Irish Centre Kings Heath Birmingham
URL:https://nptsa.co.uk/event/crown-green-bowls-2/
CATEGORIES:Bowls (Crown Green)
END:VEVENT
BEGIN:VEVENT
DTSTART;TZID=UTC:20220430T080000
DTEND;TZID=UTC:20220430T170000
DTSTAMP:20260424T162443
CREATED:20220405T130054Z
LAST-MODIFIED:20220405T130054Z
UID:2900-1651305600-1651338000@nptsa.co.uk
SUMMARY:Crown Green Bowls
DESCRIPTION:Vets and Raffert.         New Brookside Club Wakefield
URL:https://nptsa.co.uk/event/crown-green-bowls/
CATEGORIES:Bowls (Crown Green)
END:VEVENT
END:VCALENDAR