BEGIN:VCALENDAR
VERSION:2.0
PRODID:-//N.P.T.S.A. - ECPv6.15.20//NONSGML v1.0//EN
CALSCALE:GREGORIAN
METHOD:PUBLISH
X-WR-CALNAME:N.P.T.S.A.
X-ORIGINAL-URL:https://nptsa.co.uk
X-WR-CALDESC:Events for N.P.T.S.A.
REFRESH-INTERVAL;VALUE=DURATION:PT1H
X-Robots-Tag:noindex
X-PUBLISHED-TTL:PT1H
BEGIN:VTIMEZONE
TZID:UTC
BEGIN:STANDARD
TZOFFSETFROM:+0000
TZOFFSETTO:+0000
TZNAME:UTC
DTSTART:20220101T000000
END:STANDARD
END:VTIMEZONE
BEGIN:VEVENT
DTSTART;VALUE=DATE:20250720
DTEND;VALUE=DATE:20250721
DTSTAMP:20260422T230409
CREATED:20250317T172047Z
LAST-MODIFIED:20250317T172047Z
UID:5950-1752969600-1753055999@nptsa.co.uk
SUMMARY:Crown Green Bowls\, Pairs (Location TBC)
DESCRIPTION:
URL:https://nptsa.co.uk/event/crown-green-bowls-pairs-location-tbc/
CATEGORIES:Bowls (Crown Green)
END:VEVENT
BEGIN:VEVENT
DTSTART;VALUE=DATE:20250715
DTEND;VALUE=DATE:20250716
DTSTAMP:20260422T230409
CREATED:20250317T173430Z
LAST-MODIFIED:20250317T173430Z
UID:5964-1752537600-1752623999@nptsa.co.uk
SUMMARY:Angling - Management\, Marston Fields
DESCRIPTION:
URL:https://nptsa.co.uk/event/angling-management-marston-fields/
CATEGORIES:Angling
END:VEVENT
BEGIN:VEVENT
DTSTART;VALUE=DATE:20250714
DTEND;VALUE=DATE:20250715
DTSTAMP:20260422T230409
CREATED:20250210T201220Z
LAST-MODIFIED:20250210T201849Z
UID:5862-1752451200-1752537599@nptsa.co.uk
SUMMARY:Golf - West Midlands Golf Course
DESCRIPTION:
URL:https://nptsa.co.uk/event/west-midlands-golf-course/
CATEGORIES:Golf
END:VEVENT
BEGIN:VEVENT
DTSTART;VALUE=DATE:20250706
DTEND;VALUE=DATE:20250707
DTSTAMP:20260422T230409
CREATED:20241115T062847Z
LAST-MODIFIED:20250317T165802Z
UID:5688-1751760000-1751846399@nptsa.co.uk
SUMMARY:Football - Liverpool 2025
DESCRIPTION:
URL:https://nptsa.co.uk/event/n-p-t-s-a-football-liverpool-2025/
LOCATION:L24 9PQ\, Goals\, 110 Evans Road\, Liverpool\, L24 9PQ\, United Kingdom
CATEGORIES:Football Six a Side Tournament
END:VEVENT
BEGIN:VEVENT
DTSTART;TZID=UTC:20250628T080000
DTEND;TZID=UTC:20250629T170000
DTSTAMP:20260422T230409
CREATED:20250317T170835Z
LAST-MODIFIED:20250317T170835Z
UID:5942-1751097600-1751216400@nptsa.co.uk
SUMMARY:NPTSA Pool Competition\, Liverpool
DESCRIPTION:
URL:https://nptsa.co.uk/event/nptsa-pool-competition-liverpool/
LOCATION:Rileys Liverpool
CATEGORIES:Pool
END:VEVENT
BEGIN:VEVENT
DTSTART;VALUE=DATE:20250622
DTEND;VALUE=DATE:20250623
DTSTAMP:20260422T230409
CREATED:20250317T171937Z
LAST-MODIFIED:20250317T171937Z
UID:5948-1750550400-1750636799@nptsa.co.uk
SUMMARY:Crown Green Bowls - Individuals\, Erdington Conservative Club
DESCRIPTION:
URL:https://nptsa.co.uk/event/crown-green-bowls-individuals-erdington-conservative-club/
CATEGORIES:Crown Green Bowls
END:VEVENT
BEGIN:VEVENT
DTSTART;VALUE=DATE:20250618
DTEND;VALUE=DATE:20250619
DTSTAMP:20260422T230409
CREATED:20250317T165953Z
LAST-MODIFIED:20250317T170422Z
UID:5932-1750204800-1750291199@nptsa.co.uk
SUMMARY:Sea Angling - Team Boat\, Hartlepool
DESCRIPTION:
URL:https://nptsa.co.uk/event/sea-angling-team-boat-2/
CATEGORIES:Sea Angling
END:VEVENT
BEGIN:VEVENT
DTSTART;VALUE=DATE:20250616
DTEND;VALUE=DATE:20250617
DTSTAMP:20260422T230409
CREATED:20250210T201052Z
LAST-MODIFIED:20250210T201903Z
UID:5859-1750032000-1750118399@nptsa.co.uk
SUMMARY:Golf - Brancepeth Golf Course
DESCRIPTION:
URL:https://nptsa.co.uk/event/brancepeth-golf-course/
LOCATION:Brancepeth
CATEGORIES:Golf
END:VEVENT
BEGIN:VEVENT
DTSTART;VALUE=DATE:20250610
DTEND;VALUE=DATE:20250611
DTSTAMP:20260422T230409
CREATED:20250317T173332Z
LAST-MODIFIED:20250317T173332Z
UID:5962-1749513600-1749599999@nptsa.co.uk
SUMMARY:Angling - Individuals\, Solhampton
DESCRIPTION:
URL:https://nptsa.co.uk/event/angling-individuals-solhampton/
CATEGORIES:Angling
END:VEVENT
BEGIN:VEVENT
DTSTART;VALUE=DATE:20250519
DTEND;VALUE=DATE:20250520
DTSTAMP:20260422T230409
CREATED:20250210T200731Z
LAST-MODIFIED:20250210T201939Z
UID:5856-1747612800-1747699199@nptsa.co.uk
SUMMARY:Golf - Bromsgrove Golf Course
DESCRIPTION:
URL:https://nptsa.co.uk/event/bromsgrove-golf-course/
LOCATION:Bromsgrove
CATEGORIES:Golf
END:VEVENT
BEGIN:VEVENT
DTSTART;TZID=UTC:20250517T000000
DTEND;TZID=UTC:20250518T233000
DTSTAMP:20260422T230409
CREATED:20250317T180915Z
LAST-MODIFIED:20250317T180915Z
UID:5983-1747440000-1747611000@nptsa.co.uk
SUMMARY:Ten Pin Bowling - Singles & Doubles\, Shipley
DESCRIPTION:
URL:https://nptsa.co.uk/event/ten-pin-bowling-singles-doubles-shipley/
CATEGORIES:Tenpin Bowling
END:VEVENT
BEGIN:VEVENT
DTSTART;VALUE=DATE:20250513
DTEND;VALUE=DATE:20250514
DTSTAMP:20260422T230409
CREATED:20250317T173240Z
LAST-MODIFIED:20250317T173240Z
UID:5960-1747094400-1747180799@nptsa.co.uk
SUMMARY:Angling - Mystery Pairs\, Marston Fields
DESCRIPTION:
URL:https://nptsa.co.uk/event/angling-mystery-pairs-marston-fields/
CATEGORIES:Angling
END:VEVENT
BEGIN:VEVENT
DTSTART;TZID=UTC:20250428T080000
DTEND;TZID=UTC:20250429T170000
DTSTAMP:20260422T230409
CREATED:20250210T200559Z
LAST-MODIFIED:20250210T201957Z
UID:5853-1745827200-1745946000@nptsa.co.uk
SUMMARY:Golf - Staley Hall Golf Course
DESCRIPTION:
URL:https://nptsa.co.uk/event/staley-hall-golf-course/
LOCATION:Staley Hall
CATEGORIES:Golf
END:VEVENT
BEGIN:VEVENT
DTSTART;VALUE=DATE:20250315
DTEND;VALUE=DATE:20250317
DTSTAMP:20260422T230409
CREATED:20241020T153904Z
LAST-MODIFIED:20250210T202013Z
UID:5637-1741996800-1742169599@nptsa.co.uk
SUMMARY:AMG - Blackpool 2025
DESCRIPTION:
URL:https://nptsa.co.uk/event/n-p-t-s-a-amg-blackpool-2025/
LOCATION:Tiffany’s Hotel Blackpool\, 250-262 North Promenade\, Blackpool\, FY1 1SA
CATEGORIES:AGM
ATTACH;FMTTYPE=image/jpeg:https://nptsa.co.uk/wp-content/uploads/2024/10/IMG_8046.jpg
END:VEVENT
BEGIN:VEVENT
DTSTART;TZID=UTC:20250301T080000
DTEND;TZID=UTC:20250302T170000
DTSTAMP:20260422T230409
CREATED:20250210T200131Z
LAST-MODIFIED:20250210T200314Z
UID:5849-1740816000-1740934800@nptsa.co.uk
SUMMARY:Ten Pin Bowling - Mansfield - Trios
DESCRIPTION:10am Registration\n£47 per team\nFollowed by AGM on the Sunday
URL:https://nptsa.co.uk/event/ten-pin-bowling-trios/
LOCATION:Mansfield
END:VEVENT
BEGIN:VEVENT
DTSTART;VALUE=DATE:20241106
DTEND;VALUE=DATE:20241107
DTSTAMP:20260422T230409
CREATED:20240330T150318Z
LAST-MODIFIED:20241020T153407Z
UID:5257-1730851200-1730937599@nptsa.co.uk
SUMMARY:Sea Angling - Team Beach Competition - Brunswick Dock - Liverpool
DESCRIPTION:
URL:https://nptsa.co.uk/event/sea-angling-team-beach-competition-easington-beach-hull/
LOCATION:Easington
CATEGORIES:Sea Angling
ATTACH;FMTTYPE=image/jpeg:https://nptsa.co.uk/wp-content/uploads/2024/03/trolling-for-fish.jpg
ORGANIZER;CN="Steve McNally":MAILTO:catchalotmac@googlemail.com
END:VEVENT
BEGIN:VEVENT
DTSTART;VALUE=DATE:20241101
DTEND;VALUE=DATE:20241104
DTSTAMP:20260422T230409
CREATED:20240314T095136Z
LAST-MODIFIED:20240330T150451Z
UID:5156-1730419200-1730678399@nptsa.co.uk
SUMMARY:NPTSA Indoor Games - Llandudno
DESCRIPTION:
URL:https://nptsa.co.uk/event/nptsa-indoor-games/
LOCATION:Llandudno\, Hydro Hotel\, Nevill Cresent\, Llandudno\, Wales\, LL30 1AS\, United Kingdom
CATEGORIES:Indoor Games
ATTACH;FMTTYPE=image/png:https://nptsa.co.uk/wp-content/uploads/2024/03/Indoor-games-poster.png
END:VEVENT
BEGIN:VEVENT
DTSTART;VALUE=DATE:20241008
DTEND;VALUE=DATE:20241009
DTSTAMP:20260422T230409
CREATED:20240330T143017Z
LAST-MODIFIED:20240330T143017Z
UID:5249-1728345600-1728431999@nptsa.co.uk
SUMMARY:Angling - 5 Man Team - Marston Fields
DESCRIPTION:
URL:https://nptsa.co.uk/event/angling-5-man-team-marston-fields/
LOCATION:Marston Fields
CATEGORIES:Angling
ATTACH;FMTTYPE=image/jpeg:https://nptsa.co.uk/wp-content/uploads/2022/11/D4T8JJWI3KWYZCYFN6Z7.jpg
ORGANIZER;CN="Alan Hughes":MAILTO:angling@nptsa.co.uk
END:VEVENT
BEGIN:VEVENT
DTSTART;VALUE=DATE:20241006
DTEND;VALUE=DATE:20241007
DTSTAMP:20260422T230409
CREATED:20240330T135256Z
LAST-MODIFIED:20240330T135256Z
UID:5232-1728172800-1728259199@nptsa.co.uk
SUMMARY:Tenpin - 4 Man Team Event - Altrincham
DESCRIPTION:
URL:https://nptsa.co.uk/event/tenpin-4-man-team-event-altrincham/
LOCATION:Altrincham
CATEGORIES:Tenpin Bowling
ATTACH;FMTTYPE=image/jpeg:https://nptsa.co.uk/wp-content/uploads/2023/03/Ten_Pin_Bowling_A.jpeg
ORGANIZER;CN="Lewis Brown":MAILTO:tenpin@nptsa.co.uk
END:VEVENT
BEGIN:VEVENT
DTSTART;VALUE=DATE:20240910
DTEND;VALUE=DATE:20240911
DTSTAMP:20260422T230409
CREATED:20240330T142830Z
LAST-MODIFIED:20240330T142830Z
UID:5247-1725926400-1726012799@nptsa.co.uk
SUMMARY:Angling - 4 Man Team - Solhampton
DESCRIPTION:
URL:https://nptsa.co.uk/event/angling-4-man-team-solhampton/
LOCATION:Solhampton
CATEGORIES:Angling
ATTACH;FMTTYPE=image/jpeg:https://nptsa.co.uk/wp-content/uploads/2022/11/D4T8JJWI3KWYZCYFN6Z7.jpg
ORGANIZER;CN="Alan Hughes":MAILTO:angling@nptsa.co.uk
END:VEVENT
BEGIN:VEVENT
DTSTART;TZID=UTC:20240904T080000
DTEND;TZID=UTC:20240904T170000
DTSTAMP:20260422T230409
CREATED:20240330T150128Z
LAST-MODIFIED:20240330T150128Z
UID:5254-1725436800-1725469200@nptsa.co.uk
SUMMARY:Sea Angling - Team Boat Competition - Minehead\, Somerset.
DESCRIPTION:
URL:https://nptsa.co.uk/event/sea-angling-team-boat-competition-minehead-somerset/
LOCATION:Minehead
CATEGORIES:Sea Angling
ATTACH;FMTTYPE=image/jpeg:https://nptsa.co.uk/wp-content/uploads/2024/03/trolling-for-fish.jpg
ORGANIZER;CN="Steve McNally":MAILTO:catchalotmac@googlemail.com
END:VEVENT
BEGIN:VEVENT
DTSTART;VALUE=DATE:20240818
DTEND;VALUE=DATE:20240819
DTSTAMP:20260422T230409
CREATED:20240704T152906Z
LAST-MODIFIED:20240704T152906Z
UID:5434-1723939200-1724025599@nptsa.co.uk
SUMMARY:Crown Green Bowls – Pairs Competition – Erdington Conservative Club\, Birmingham
DESCRIPTION:
URL:https://nptsa.co.uk/event/crown-green-bowls-pairs-competition-erdington-conservative-club-birmingham/
CATEGORIES:Bowls (Crown Green)
END:VEVENT
BEGIN:VEVENT
DTSTART;VALUE=DATE:20240721
DTEND;VALUE=DATE:20240722
DTSTAMP:20260422T230409
CREATED:20240330T151119Z
LAST-MODIFIED:20240330T151119Z
UID:5264-1721520000-1721606399@nptsa.co.uk
SUMMARY:Crown Green Bowls - Triples Competition - Hall Green\, Birmingham
DESCRIPTION:
URL:https://nptsa.co.uk/event/crown-green-bowls-triples-competition-hall-green-birmingham/
LOCATION:Hall Green
CATEGORIES:Bowls (Crown Green)
ATTACH;FMTTYPE=image/jpeg:https://nptsa.co.uk/wp-content/uploads/2023/04/istockphoto-105672286-612x612-1.jpg
ORGANIZER;CN="Stuart Wilkinson":MAILTO:admin@nptsa.co.uk
END:VEVENT
BEGIN:VEVENT
DTSTART;VALUE=DATE:20240716
DTEND;VALUE=DATE:20240717
DTSTAMP:20260422T230409
CREATED:20240330T142355Z
LAST-MODIFIED:20240330T142355Z
UID:5244-1721088000-1721174399@nptsa.co.uk
SUMMARY:Angling - Management Match - Herronbrook
DESCRIPTION:
URL:https://nptsa.co.uk/event/angling-management-match-herronbrook/
LOCATION:Herronbrook
CATEGORIES:Angling
ATTACH;FMTTYPE=image/jpeg:https://nptsa.co.uk/wp-content/uploads/2022/11/D4T8JJWI3KWYZCYFN6Z7.jpg
ORGANIZER;CN="Alan Hughes":MAILTO:angling@nptsa.co.uk
END:VEVENT
BEGIN:VEVENT
DTSTART;VALUE=DATE:20240630
DTEND;VALUE=DATE:20240701
DTSTAMP:20260422T230409
CREATED:20240330T150858Z
LAST-MODIFIED:20240507T101828Z
UID:5261-1719705600-1719791999@nptsa.co.uk
SUMMARY:Crown Green Bowls - Individuals - Erdington\, Birmingham
DESCRIPTION:This game has been rescheduled\, was previously scheduled for Sunday 26th May
URL:https://nptsa.co.uk/event/crown-green-bowls-individuals-erdington-birmingham/
LOCATION:Erdington
CATEGORIES:Bowls (Crown Green)
ATTACH;FMTTYPE=image/jpeg:https://nptsa.co.uk/wp-content/uploads/2023/04/istockphoto-105672286-612x612-1.jpg
ORGANIZER;CN="Stuart Wilkinson":MAILTO:admin@nptsa.co.uk
END:VEVENT
BEGIN:VEVENT
DTSTART;VALUE=DATE:20240618
DTEND;VALUE=DATE:20240619
DTSTAMP:20260422T230409
CREATED:20240330T145840Z
LAST-MODIFIED:20240330T145840Z
UID:5251-1718668800-1718755199@nptsa.co.uk
SUMMARY:Sea Angling - Individual Boat Competition - Rhyl\, North Wales
DESCRIPTION:
URL:https://nptsa.co.uk/event/sea-angling-individual-boat-competition-rhyl-north-wales/
LOCATION:Rhyl
CATEGORIES:Sea Angling
ATTACH;FMTTYPE=image/jpeg:https://nptsa.co.uk/wp-content/uploads/2024/03/trolling-for-fish.jpg
ORGANIZER;CN="Steve McNally":MAILTO:catchalotmac@googlemail.com
END:VEVENT
BEGIN:VEVENT
DTSTART;VALUE=DATE:20240611
DTEND;VALUE=DATE:20240612
DTSTAMP:20260422T230409
CREATED:20240330T142209Z
LAST-MODIFIED:20240330T142209Z
UID:5241-1718064000-1718150399@nptsa.co.uk
SUMMARY:Angling - Individuals - Marston Fields
DESCRIPTION:
URL:https://nptsa.co.uk/event/angling-individuals-marston-fields/
LOCATION:Marston Fields
CATEGORIES:Angling
ATTACH;FMTTYPE=image/jpeg:https://nptsa.co.uk/wp-content/uploads/2022/11/D4T8JJWI3KWYZCYFN6Z7.jpg
ORGANIZER;CN="Alan Hughes":MAILTO:angling@nptsa.co.uk
END:VEVENT
BEGIN:VEVENT
DTSTART;VALUE=DATE:20240518
DTEND;VALUE=DATE:20240520
DTSTAMP:20260422T230409
CREATED:20240330T134906Z
LAST-MODIFIED:20240330T134906Z
UID:5230-1715990400-1716163199@nptsa.co.uk
SUMMARY:Tenpin - Singles & Doubles - Norwich
DESCRIPTION:
URL:https://nptsa.co.uk/event/tenpin-singles-doubles-norwich/
LOCATION:Norwich
CATEGORIES:Tenpin Bowling
ATTACH;FMTTYPE=image/jpeg:https://nptsa.co.uk/wp-content/uploads/2023/03/Ten_Pin_Bowling_A.jpeg
ORGANIZER;CN="Lewis Brown":MAILTO:tenpin@nptsa.co.uk
END:VEVENT
BEGIN:VEVENT
DTSTART;VALUE=DATE:20240514
DTEND;VALUE=DATE:20240515
DTSTAMP:20260422T230409
CREATED:20240330T141919Z
LAST-MODIFIED:20240330T151258Z
UID:5238-1715644800-1715731199@nptsa.co.uk
SUMMARY:Angling - Mystery Pairs (New Competition) - Solhampton
DESCRIPTION:
URL:https://nptsa.co.uk/event/angling-mystery-pairs-new-competition-solhampton/
LOCATION:Solhampton
CATEGORIES:Angling
ATTACH;FMTTYPE=image/jpeg:https://nptsa.co.uk/wp-content/uploads/2022/11/D4T8JJWI3KWYZCYFN6Z7.jpg
ORGANIZER;CN="Alan Hughes":MAILTO:angling@nptsa.co.uk
END:VEVENT
BEGIN:VEVENT
DTSTART;VALUE=DATE:20231115
DTEND;VALUE=DATE:20231116
DTSTAMP:20260422T230409
CREATED:20230114T184434Z
LAST-MODIFIED:20230124T120932Z
UID:3626-1700006400-1700092799@nptsa.co.uk
SUMMARY:Sea Angling Team Beach
DESCRIPTION:
URL:https://nptsa.co.uk/event/sea-angling-team-beach/
LOCATION:Hythe
CATEGORIES:Sea Angling
ATTACH;FMTTYPE=image/jpeg:https://nptsa.co.uk/wp-content/uploads/2021/10/Sea-Angling.jpeg
END:VEVENT
END:VCALENDAR