BEGIN:VCALENDAR
VERSION:2.0
PRODID:-//N.P.T.S.A. - ECPv6.15.20//NONSGML v1.0//EN
CALSCALE:GREGORIAN
METHOD:PUBLISH
X-WR-CALNAME:N.P.T.S.A.
X-ORIGINAL-URL:https://nptsa.co.uk
X-WR-CALDESC:Events for N.P.T.S.A.
REFRESH-INTERVAL;VALUE=DURATION:PT1H
X-Robots-Tag:noindex
X-PUBLISHED-TTL:PT1H
BEGIN:VTIMEZONE
TZID:UTC
BEGIN:STANDARD
TZOFFSETFROM:+0000
TZOFFSETTO:+0000
TZNAME:UTC
DTSTART:20210101T000000
END:STANDARD
END:VTIMEZONE
BEGIN:VEVENT
DTSTART;VALUE=DATE:20230912
DTEND;VALUE=DATE:20230913
DTSTAMP:20260422T231848
CREATED:20230124T115629Z
LAST-MODIFIED:20230124T120847Z
UID:3681-1694476800-1694563199@nptsa.co.uk
SUMMARY:4 Man Team Marston Fields Fishery
DESCRIPTION:
URL:https://nptsa.co.uk/event/4-man-team-marston-fields-fishery/
CATEGORIES:Angling
ATTACH;FMTTYPE=image/jpeg:https://nptsa.co.uk/wp-content/uploads/2023/01/Angling-Header.jpg
ORGANIZER;CN="Alan Hughes":MAILTO:angling@nptsa.co.uk
END:VEVENT
BEGIN:VEVENT
DTSTART;VALUE=DATE:20230906
DTEND;VALUE=DATE:20230907
DTSTAMP:20260422T231848
CREATED:20230114T184309Z
LAST-MODIFIED:20230124T120846Z
UID:3623-1693958400-1694044799@nptsa.co.uk
SUMMARY:Sea Angling Team Boat
DESCRIPTION:Milford Haven
URL:https://nptsa.co.uk/event/sea-angling-team-boat/
LOCATION:Milford Haven
CATEGORIES:Sea Angling
ATTACH;FMTTYPE=image/jpeg:https://nptsa.co.uk/wp-content/uploads/2021/10/Sea-Angling.jpeg
END:VEVENT
BEGIN:VEVENT
DTSTART;TZID=UTC:20230820T080000
DTEND;TZID=UTC:20230820T170000
DTSTAMP:20260422T231848
CREATED:20230413T045527Z
LAST-MODIFIED:20230413T045527Z
UID:4281-1692518400-1692550800@nptsa.co.uk
SUMMARY:N.P.T.S.A - Crown Green Bowls - Triples Competition
DESCRIPTION:
URL:https://nptsa.co.uk/event/n-p-t-s-a-crown-green-bowls-triples-competition/
END:VEVENT
BEGIN:VEVENT
DTSTART;VALUE=DATE:20230723
DTEND;VALUE=DATE:20230724
DTSTAMP:20260422T231848
CREATED:20230413T045146Z
LAST-MODIFIED:20230413T045221Z
UID:4275-1690070400-1690156799@nptsa.co.uk
SUMMARY:N.P.T.S.A - Crown Green Bowls - Pairs Competition
DESCRIPTION:
URL:https://nptsa.co.uk/event/n-p-t-s-a-crown-green-bowls-individuals-competition/
END:VEVENT
BEGIN:VEVENT
DTSTART;VALUE=DATE:20230718
DTEND;VALUE=DATE:20230719
DTSTAMP:20260422T231848
CREATED:20230124T115549Z
LAST-MODIFIED:20230124T120845Z
UID:3679-1689638400-1689724799@nptsa.co.uk
SUMMARY:Management Match Heronbrook Fishery
DESCRIPTION:
URL:https://nptsa.co.uk/event/management-match-heronbrook-fishery/
CATEGORIES:Angling
ATTACH;FMTTYPE=image/jpeg:https://nptsa.co.uk/wp-content/uploads/2023/01/Angling-Header.jpg
ORGANIZER;CN="Alan Hughes":MAILTO:angling@nptsa.co.uk
END:VEVENT
BEGIN:VEVENT
DTSTART;VALUE=DATE:20230627
DTEND;VALUE=DATE:20230628
DTSTAMP:20260422T231848
CREATED:20230114T184053Z
LAST-MODIFIED:20230124T120844Z
UID:3620-1687824000-1687910399@nptsa.co.uk
SUMMARY:Sea Angling Individual Boat
DESCRIPTION:Individual boat ~ Rhyl
URL:https://nptsa.co.uk/event/sea-angling-individual-boat/
LOCATION:Rhyl
CATEGORIES:Sea Angling
ATTACH;FMTTYPE=image/jpeg:https://nptsa.co.uk/wp-content/uploads/2021/10/Sea-Angling.jpeg
END:VEVENT
BEGIN:VEVENT
DTSTART;VALUE=DATE:20230613
DTEND;VALUE=DATE:20230614
DTSTAMP:20260422T231848
CREATED:20230124T115504Z
LAST-MODIFIED:20230124T120843Z
UID:3676-1686614400-1686700799@nptsa.co.uk
SUMMARY:Individual Angling - Aston Park Fishery
DESCRIPTION:
URL:https://nptsa.co.uk/event/individual-angling-aston-park-fishery/
CATEGORIES:Angling
ATTACH;FMTTYPE=image/jpeg:https://nptsa.co.uk/wp-content/uploads/2023/01/Angling-Header.jpg
ORGANIZER;CN="Alan Hughes":MAILTO:angling@nptsa.co.uk
END:VEVENT
BEGIN:VEVENT
DTSTART;VALUE=DATE:20230610
DTEND;VALUE=DATE:20230612
DTSTAMP:20260422T231848
CREATED:20230413T043639Z
LAST-MODIFIED:20230413T043639Z
UID:4268-1686355200-1686527999@nptsa.co.uk
SUMMARY:N.P.T.S.A Pool Tournament
DESCRIPTION:
URL:https://nptsa.co.uk/event/n-p-t-s-a-pool-tournament/
CATEGORIES:Pool
END:VEVENT
BEGIN:VEVENT
DTSTART;VALUE=DATE:20230604
DTEND;VALUE=DATE:20230605
DTSTAMP:20260422T231848
CREATED:20230413T045356Z
LAST-MODIFIED:20230413T045356Z
UID:4279-1685836800-1685923199@nptsa.co.uk
SUMMARY:N.P.T.S.A - Crown Green Bowls - Individuals Competition
DESCRIPTION:
URL:https://nptsa.co.uk/event/n-p-t-s-a-crown-green-bowls-individuals-competition-2/
END:VEVENT
BEGIN:VEVENT
DTSTART;TZID=UTC:20230520T080000
DTEND;TZID=UTC:20230521T170000
DTSTAMP:20260422T231848
CREATED:20230310T164156Z
LAST-MODIFIED:20230310T164308Z
UID:3931-1684569600-1684688400@nptsa.co.uk
SUMMARY:Tenpin Bowling - Singles & Doubles Events
DESCRIPTION:
URL:https://nptsa.co.uk/event/ten-pin-bowling-singles-doubles-events/
LOCATION:Norwich
CATEGORIES:Tenpin Bowling
END:VEVENT
BEGIN:VEVENT
DTSTART;TZID=UTC:20230304T080000
DTEND;TZID=UTC:20230305T170000
DTSTAMP:20260422T231848
CREATED:20230112T195106Z
LAST-MODIFIED:20230124T120841Z
UID:3613-1677916800-1678035600@nptsa.co.uk
SUMMARY:Ten Pin Bowling
DESCRIPTION:
URL:https://nptsa.co.uk/event/ten-pin-bowling-2/
LOCATION:Mansfield
CATEGORIES:Tenpin Bowling
ATTACH;FMTTYPE=image/jpeg:https://nptsa.co.uk/wp-content/uploads/2022/01/Tenpin-Bowling-Generic.jpeg
END:VEVENT
BEGIN:VEVENT
DTSTART;TZID=UTC:20230115T080000
DTEND;TZID=UTC:20230115T170000
DTSTAMP:20260422T231848
CREATED:20220405T131438Z
LAST-MODIFIED:20230124T120840Z
UID:2914-1673769600-1673802000@nptsa.co.uk
SUMMARY:Snooker
DESCRIPTION:The League Finals (Top three from each Zone) \nGolden Cue S.C.\, Eturia Way\, Barton Park Ind Est\, Bilston\, WV14 7LH. Tel: 01902404343
URL:https://nptsa.co.uk/event/snooker-5/
CATEGORIES:Snooker
ATTACH;FMTTYPE=image/jpeg:https://nptsa.co.uk/wp-content/uploads/2022/03/Snooker.jpg
END:VEVENT
BEGIN:VEVENT
DTSTART;TZID=UTC:20221127T080000
DTEND;TZID=UTC:20221127T170000
DTSTAMP:20260422T231848
CREATED:20220405T131333Z
LAST-MODIFIED:20220405T133349Z
UID:2912-1669536000-1669568400@nptsa.co.uk
SUMMARY:Snooker
DESCRIPTION:The Central League \nGolden Cue S.C.\, Eturia Way\, Barton Park Ind Est\, Bilston\, WV14 7LH. Tel: 01902404343
URL:https://nptsa.co.uk/event/snooker-4/
CATEGORIES:Snooker
END:VEVENT
BEGIN:VEVENT
DTSTART;TZID=UTC:20221118T080000
DTEND;TZID=UTC:20221120T170000
DTSTAMP:20260422T231848
CREATED:20220406T130257Z
LAST-MODIFIED:20220406T130257Z
UID:2944-1668758400-1668963600@nptsa.co.uk
SUMMARY:Indoor Games
DESCRIPTION:Tiffanys Hotel Blackpool
URL:https://nptsa.co.uk/event/indoor-games-2/
LOCATION:Tiffany’s Hotel Blackpool\, 250-262 North Promenade\, Blackpool\, FY1 1SA
CATEGORIES:Indoor Games
END:VEVENT
BEGIN:VEVENT
DTSTART;VALUE=DATE:20221118
DTEND;VALUE=DATE:20221121
DTSTAMP:20260422T231848
CREATED:20220630T122102Z
LAST-MODIFIED:20220630T122812Z
UID:3195-1668729600-1668988799@nptsa.co.uk
SUMMARY:Indoor Games
DESCRIPTION:Price includes Friday evening meal\, Sat breakfast and Gala dinner\, Sunday breakfast and Lunch for a 2 night stay. For a 3 night stay you get Sunday evening meal and Monday breakfast. \nSupplements are as follows \nSingle room  Supplement is £5 per night\nSea view Supplement is £5 per person per night\nThese are on a first come first serve basis. \nAll booking to be sent via email please to Gary Willetts
URL:https://nptsa.co.uk/event/indoor-games/
LOCATION:Tyffanys Hotel\, Blackpool\, United Kingdom
CATEGORIES:Indoor Games
ATTACH;FMTTYPE=image/jpeg:https://nptsa.co.uk/wp-content/uploads/2022/06/Indoor-games-2022-scaled.jpg
END:VEVENT
BEGIN:VEVENT
DTSTART;TZID=UTC:20221113T080000
DTEND;TZID=UTC:20221113T170000
DTSTAMP:20260422T231848
CREATED:20220405T133526Z
LAST-MODIFIED:20220405T133526Z
UID:2931-1668326400-1668358800@nptsa.co.uk
SUMMARY:Snooker
DESCRIPTION:The Central League \nGolden Cue S.C.\, Eturia Way\, Barton Park Ind Est\, Bilston\, WV14 7LH. Tel: 01902404343
URL:https://nptsa.co.uk/event/snooker-9/
CATEGORIES:Snooker
END:VEVENT
BEGIN:VEVENT
DTSTART;TZID=UTC:20221106T080000
DTEND;TZID=UTC:20221106T170000
DTSTAMP:20260422T231848
CREATED:20220405T131205Z
LAST-MODIFIED:20220405T133236Z
UID:2910-1667721600-1667754000@nptsa.co.uk
SUMMARY:Snooker
DESCRIPTION:The Central Zone Qualifiers for Individuals \nGolden Cue S.C.\, Eturia Way\, Barton Park Ind Est\, Bilston\, WV14 7LH. Tel: 01902404343
URL:https://nptsa.co.uk/event/snooker-3/
CATEGORIES:Snooker
END:VEVENT
BEGIN:VEVENT
DTSTART;TZID=UTC:20221102T080000
DTEND;TZID=UTC:20221102T170000
DTSTAMP:20260422T231848
CREATED:20220126T141609Z
LAST-MODIFIED:20220126T141709Z
UID:2447-1667376000-1667408400@nptsa.co.uk
SUMMARY:Sea Angling - Dundee
DESCRIPTION:Dundee Team Beach competition November dates to be confirmed
URL:https://nptsa.co.uk/event/sea-angling-dundee/
CATEGORIES:Sea Angling
END:VEVENT
BEGIN:VEVENT
DTSTART;TZID=UTC:20221016T080000
DTEND;TZID=UTC:20221016T170000
DTSTAMP:20260422T231848
CREATED:20220405T131557Z
LAST-MODIFIED:20220405T133201Z
UID:2916-1665907200-1665939600@nptsa.co.uk
SUMMARY:Snooker
DESCRIPTION:The Central Zone Qualifiers for Pairs \nGolden Cue S.C.\, Eturia Way\, Barton Park Ind Est\, Bilston\, WV14 7LH. Tel: 01902404343
URL:https://nptsa.co.uk/event/snooker-6/
CATEGORIES:Snooker
END:VEVENT
BEGIN:VEVENT
DTSTART;VALUE=DATE:20221011
DTEND;VALUE=DATE:20221012
DTSTAMP:20260422T231848
CREATED:20220303T161412Z
LAST-MODIFIED:20220303T161412Z
UID:2641-1665446400-1665532799@nptsa.co.uk
SUMMARY:Angling (5 man team)
DESCRIPTION:
URL:https://nptsa.co.uk/event/angling-5-man-team/
LOCATION:Moorlands Farm\, Greenacres/Manor Lane\, Kidderminster\, DY11 7XN
CATEGORIES:Angling
END:VEVENT
BEGIN:VEVENT
DTSTART;VALUE=DATE:20221010
DTEND;VALUE=DATE:20221011
DTSTAMP:20260422T231848
CREATED:20211124T165403Z
LAST-MODIFIED:20220126T141759Z
UID:2212-1665360000-1665446399@nptsa.co.uk
SUMMARY:Golf - Thornhurst Manor
DESCRIPTION:TEAM GAME
URL:https://nptsa.co.uk/event/golf-thornhurst-manor/
LOCATION:Thornhurst Manor Golf Club\, Holme Lane\, Doncaster\, DN5 0LR
CATEGORIES:Golf
END:VEVENT
BEGIN:VEVENT
DTSTART;TZID=UTC:20221002T080000
DTEND;TZID=UTC:20221002T170000
DTSTAMP:20260422T231848
CREATED:20220405T131957Z
LAST-MODIFIED:20220405T132737Z
UID:2920-1664697600-1664730000@nptsa.co.uk
SUMMARY:Snooker
DESCRIPTION:The North Zone Qualifiers for the Individuals and Pairs Competitions \nNORTH – Philippa House\, Burnden Works\, Burnden Road\, Bolton\,BL3 2RB
URL:https://nptsa.co.uk/event/snooker-8/
CATEGORIES:Snooker
END:VEVENT
BEGIN:VEVENT
DTSTART;TZID=UTC:20221002T080000
DTEND;TZID=UTC:20221002T170000
DTSTAMP:20260422T231848
CREATED:20220405T131828Z
LAST-MODIFIED:20220405T132911Z
UID:2918-1664697600-1664730000@nptsa.co.uk
SUMMARY:Snooker
DESCRIPTION:The  South Zone Qualifiers for the Individuals and Pairs Competitions \nSOUTH – Salisbury Snooker Centre\, Tollgate Road\, Salisbury\, SP1 2JG. Tel: 01722 501253
URL:https://nptsa.co.uk/event/snooker-7/
CATEGORIES:Snooker
END:VEVENT
BEGIN:VEVENT
DTSTART;TZID=UTC:20221002T080000
DTEND;TZID=UTC:20221002T170000
DTSTAMP:20260422T231848
CREATED:20220405T131012Z
LAST-MODIFIED:20220405T132817Z
UID:2908-1664697600-1664730000@nptsa.co.uk
SUMMARY:Snooker
DESCRIPTION:The Central Zone Qualifiers for Individuals \nCENTRAL – Golden Cue S.C.\, Eturia Way\, Barton Park Ind Est\, Bilston\, WV14 7LH. Tel: 01902404343
URL:https://nptsa.co.uk/event/snooker-2/
CATEGORIES:Snooker
END:VEVENT
BEGIN:VEVENT
DTSTART;VALUE=DATE:20220925
DTEND;VALUE=DATE:20220926
DTSTAMP:20260422T231848
CREATED:20220811T112151Z
LAST-MODIFIED:20220811T112151Z
UID:3285-1664064000-1664150399@nptsa.co.uk
SUMMARY:Football
DESCRIPTION:
URL:https://nptsa.co.uk/event/football/
LOCATION:IRISH CENTRE WMT SPORTS AND SOCIAL\, Wheelers Lane Kings Heath\, Birmingham\, B13 0ST
END:VEVENT
BEGIN:VEVENT
DTSTART;VALUE=DATE:20220924
DTEND;VALUE=DATE:20220926
DTSTAMP:20260422T231848
CREATED:20220705T162104Z
LAST-MODIFIED:20220705T162104Z
UID:3211-1663977600-1664150399@nptsa.co.uk
SUMMARY:Ten Pin Bowling
DESCRIPTION:
URL:https://nptsa.co.uk/event/ten-pin-bowling/
LOCATION:Dunstable
CATEGORIES:Tenpin Bowling
END:VEVENT
BEGIN:VEVENT
DTSTART;VALUE=DATE:20220913
DTEND;VALUE=DATE:20220914
DTSTAMP:20260422T231848
CREATED:20220303T161151Z
LAST-MODIFIED:20220303T161151Z
UID:2638-1663027200-1663113599@nptsa.co.uk
SUMMARY:Angling (4 man team)
DESCRIPTION:
URL:https://nptsa.co.uk/event/angling-4-man-team/
LOCATION:Tunnel Barn farm\, Sherwley Common\, Shrewley\, CV35 7AN
CATEGORIES:Angling
END:VEVENT
BEGIN:VEVENT
DTSTART;VALUE=DATE:20220912
DTEND;VALUE=DATE:20220913
DTSTAMP:20260422T231848
CREATED:20211124T164854Z
LAST-MODIFIED:20211124T165012Z
UID:2209-1662940800-1663027199@nptsa.co.uk
SUMMARY:Golf - Flamborough
DESCRIPTION:PRESIDENTS
URL:https://nptsa.co.uk/event/golf-flamborough/
LOCATION:Flamborough\, Lighthouse Rd\, Bridlington
CATEGORIES:Golf
END:VEVENT
BEGIN:VEVENT
DTSTART;VALUE=DATE:20220907
DTEND;VALUE=DATE:20220908
DTSTAMP:20260422T231848
CREATED:20211021T160224Z
LAST-MODIFIED:20220126T141439Z
UID:1267-1662508800-1662595199@nptsa.co.uk
SUMMARY:Sea Angling - Hartlepool
DESCRIPTION:Team Boat Competition \n 
URL:https://nptsa.co.uk/event/sea-angling-hartlepool/
CATEGORIES:Sea Angling
ATTACH;FMTTYPE=image/jpeg:https://nptsa.co.uk/wp-content/uploads/2021/10/Sea-Angling.jpeg
ORGANIZER;CN="Steve McNally":MAILTO:catchalotmac@googlemail.com
END:VEVENT
BEGIN:VEVENT
DTSTART;VALUE=DATE:20220824
DTEND;VALUE=DATE:20220825
DTSTAMP:20260422T231848
CREATED:20211124T164134Z
LAST-MODIFIED:20220126T141808Z
UID:2206-1661299200-1661385599@nptsa.co.uk
SUMMARY:Golf - Leeds
DESCRIPTION:DIRECT PARTS CHAMPIONSHIPS MEDAL \n 
URL:https://nptsa.co.uk/event/golf-leeds/
LOCATION:Leeds Golf Centre\, Wike Ridge Lane Shadwell\, Leeds\, LS17 9JW
CATEGORIES:Golf
END:VEVENT
END:VCALENDAR