BEGIN:VCALENDAR
VERSION:2.0
PRODID:-//N.P.T.S.A. - ECPv6.15.20//NONSGML v1.0//EN
CALSCALE:GREGORIAN
METHOD:PUBLISH
X-ORIGINAL-URL:https://nptsa.co.uk
X-WR-CALDESC:Events for N.P.T.S.A.
REFRESH-INTERVAL;VALUE=DURATION:PT1H
X-Robots-Tag:noindex
X-PUBLISHED-TTL:PT1H
BEGIN:VTIMEZONE
TZID:UTC
BEGIN:STANDARD
TZOFFSETFROM:+0000
TZOFFSETTO:+0000
TZNAME:UTC
DTSTART:20230101T000000
END:STANDARD
END:VTIMEZONE
BEGIN:VEVENT
DTSTART;VALUE=DATE:20240611
DTEND;VALUE=DATE:20240612
DTSTAMP:20260423T121734
CREATED:20240330T142209Z
LAST-MODIFIED:20240330T142209Z
UID:5241-1718064000-1718150399@nptsa.co.uk
SUMMARY:Angling - Individuals - Marston Fields
DESCRIPTION:
URL:https://nptsa.co.uk/event/angling-individuals-marston-fields/
LOCATION:Marston Fields
CATEGORIES:Angling
ATTACH;FMTTYPE=image/jpeg:https://nptsa.co.uk/wp-content/uploads/2022/11/D4T8JJWI3KWYZCYFN6Z7.jpg
ORGANIZER;CN="Alan Hughes":MAILTO:angling@nptsa.co.uk
END:VEVENT
BEGIN:VEVENT
DTSTART;VALUE=DATE:20240618
DTEND;VALUE=DATE:20240619
DTSTAMP:20260423T121734
CREATED:20240330T145840Z
LAST-MODIFIED:20240330T145840Z
UID:5251-1718668800-1718755199@nptsa.co.uk
SUMMARY:Sea Angling - Individual Boat Competition - Rhyl\, North Wales
DESCRIPTION:
URL:https://nptsa.co.uk/event/sea-angling-individual-boat-competition-rhyl-north-wales/
LOCATION:Rhyl
CATEGORIES:Sea Angling
ATTACH;FMTTYPE=image/jpeg:https://nptsa.co.uk/wp-content/uploads/2024/03/trolling-for-fish.jpg
ORGANIZER;CN="Steve McNally":MAILTO:catchalotmac@googlemail.com
END:VEVENT
BEGIN:VEVENT
DTSTART;VALUE=DATE:20240630
DTEND;VALUE=DATE:20240701
DTSTAMP:20260423T121734
CREATED:20240330T150858Z
LAST-MODIFIED:20240507T101828Z
UID:5261-1719705600-1719791999@nptsa.co.uk
SUMMARY:Crown Green Bowls - Individuals - Erdington\, Birmingham
DESCRIPTION:This game has been rescheduled\, was previously scheduled for Sunday 26th May
URL:https://nptsa.co.uk/event/crown-green-bowls-individuals-erdington-birmingham/
LOCATION:Erdington
CATEGORIES:Bowls (Crown Green)
ATTACH;FMTTYPE=image/jpeg:https://nptsa.co.uk/wp-content/uploads/2023/04/istockphoto-105672286-612x612-1.jpg
ORGANIZER;CN="Stuart Wilkinson":MAILTO:admin@nptsa.co.uk
END:VEVENT
END:VCALENDAR