BEGIN:VCALENDAR
VERSION:2.0
PRODID:-//N.P.T.S.A. - ECPv6.15.20//NONSGML v1.0//EN
CALSCALE:GREGORIAN
METHOD:PUBLISH
X-ORIGINAL-URL:https://nptsa.co.uk
X-WR-CALDESC:Events for N.P.T.S.A.
REFRESH-INTERVAL;VALUE=DURATION:PT1H
X-Robots-Tag:noindex
X-PUBLISHED-TTL:PT1H
BEGIN:VTIMEZONE
TZID:UTC
BEGIN:STANDARD
TZOFFSETFROM:+0000
TZOFFSETTO:+0000
TZNAME:UTC
DTSTART:20240101T000000
END:STANDARD
END:VTIMEZONE
BEGIN:VEVENT
DTSTART;VALUE=DATE:20250903
DTEND;VALUE=DATE:20250904
DTSTAMP:20260424T090857
CREATED:20250317T170115Z
LAST-MODIFIED:20250317T170307Z
UID:5934-1756857600-1756943999@nptsa.co.uk
SUMMARY:Sea Angling - Individual Boat\, Cardiff
DESCRIPTION:
URL:https://nptsa.co.uk/event/sea-angling-individual-boat-2/
CATEGORIES:Sea Angling
END:VEVENT
BEGIN:VEVENT
DTSTART;VALUE=DATE:20250907
DTEND;VALUE=DATE:20250908
DTSTAMP:20260424T090857
CREATED:20250317T172510Z
LAST-MODIFIED:20250317T172510Z
UID:5954-1757203200-1757289599@nptsa.co.uk
SUMMARY:Crown Green Bowls - Veterans & Rafferty Cup\, Date TBC\, Kings Heath\, The Stadium
DESCRIPTION:
URL:https://nptsa.co.uk/event/crown-green-bowls-veterans-rafferty-cup-date-tbc-kings-heath-the-stadium/
CATEGORIES:Bowls (Crown Green)
END:VEVENT
BEGIN:VEVENT
DTSTART;VALUE=DATE:20250909
DTEND;VALUE=DATE:20250910
DTSTAMP:20260424T090857
CREATED:20250317T173522Z
LAST-MODIFIED:20250317T173522Z
UID:5966-1757376000-1757462399@nptsa.co.uk
SUMMARY:Angling - 4 Man\, Marston Fields
DESCRIPTION:
URL:https://nptsa.co.uk/event/angling-4-man-marston-fields/
CATEGORIES:Angling
END:VEVENT
BEGIN:VEVENT
DTSTART;VALUE=DATE:20250915
DTEND;VALUE=DATE:20250916
DTSTAMP:20260424T090857
CREATED:20250210T201539Z
LAST-MODIFIED:20250210T201750Z
UID:5867-1757894400-1757980799@nptsa.co.uk
SUMMARY:Golf - Cottingham Golf Course
DESCRIPTION:
URL:https://nptsa.co.uk/event/cottingham-golf-course/
LOCATION:Cottingham
CATEGORIES:Golf
END:VEVENT
BEGIN:VEVENT
DTSTART;VALUE=DATE:20250921
DTEND;VALUE=DATE:20250922
DTSTAMP:20260424T090857
CREATED:20250317T172617Z
LAST-MODIFIED:20250317T172617Z
UID:5956-1758412800-1758499199@nptsa.co.uk
SUMMARY:Crown Green Bowls - Team Event & Finals Day\, Date TBC\, Kings Heath\, The Stadium
DESCRIPTION:
URL:https://nptsa.co.uk/event/crown-green-bowls-team-event-finals-day-date-tbc-kings-heath-the-stadium/
CATEGORIES:Bowls (Crown Green)
END:VEVENT
END:VCALENDAR